BEGIN:VCALENDAR
PRODID:-//eluceo/ical//2.0/EN
VERSION:2.0
CALSCALE:GREGORIAN
BEGIN:VEVENT
UID:35b27b985633c96b90dee9762c17764b
DTSTAMP:20260425T025022Z
SUMMARY:Sie glauben an Engel\, Herr Drowak?
DESCRIPTION:Die optimistische\, lebensfrohe Studentin Lena (Luna Wedler)\, 
 eingeschrieben für Germanistik und Puppenspiel\, übernimmt im Auftrag de
 s „Amtes für Ruhe und Ordnung“ einen Job als Schreibtherapeutin. Bei 
 ihrem Kurs gibt es allerdings nur einen einzigen Teilnehmer: Hugo Drowak (
 Karl Markovics)\, ein einsamer\, alter Misanthrop voller Hass\, ein Alkoho
 liker\, der sich zwischen seinen leeren Flaschen eingeigelt hat – und de
 r wenig zugänglich scheint.\n\nDoch Lena lässt sich davon nicht abschrec
 ken. Ihr temperamentvoller Ehrgeiz weckt in Drowak völlig unerwartet sein
  literarisches Talent. Lena ist verzaubert von seiner Poesie über Liebe u
 nd Magie. Und je tiefer Drowak in seine Erinnerungen eintaucht\, umso stä
 rker erwachen verdrängte Dämonen in ihm. Lena kämpft darum\, Drowak vor
  sich selbst zu schützen und ihm zu helfen\, wieder an das Gute im Leben 
 zu glauben.<br>Tragikkomödie\, \n    \, 2025\, 127Min. <br>Altersfreigabe
 : ab 12<br>Sprache: D<br>Darsteller: Luna Wedler\, Karl Markovics<br>Regie
 : Nicolas  Steiner<br>
DTSTART:20260309T200000
DTEND:20260309T230000
LOCATION:Schlachthofkino\, Ulrichertor 4\, 59494 Soest\, 
END:VEVENT
BEGIN:VTIMEZONE
TZID:Europe/Berlin
BEGIN:STANDARD
DTSTART:20260309T200000
TZNAME:CET
TZOFFSETTO:+0100
TZOFFSETFROM:+0100
END:STANDARD
END:VTIMEZONE
END:VCALENDAR
