BEGIN:VCALENDAR
PRODID:-//eluceo/ical//2.0/EN
VERSION:2.0
CALSCALE:GREGORIAN
BEGIN:VEVENT
UID:343f3409c28eb47cdd37c426a0765b86
DTSTAMP:20260425T014830Z
SUMMARY:Ab morgen bin ich mutig
DESCRIPTION:Hätte der zwölfjährige Karl sich aussuchen können\, in wen 
 er sich verliebt\, es wäre vermutlich nicht seine Mitschülerin Lea gewor
 den. Lea ist das größte Mädchen in der Klasse\, sie ist einen ganzen Ko
 pf größer als Karl! Aber das ist nicht das einzige Problem: Wie soll er 
 nur herausfinden\, ob Lea ihn mag? Das erfordert Mut\, und viel Zeit bleib
 t ihm nicht\, denn die Sommerferien stehen kurz bevor. Karls älterer Brud
 er Tom rät\, mit Lea etwas zu unternehmen. Also lädt er das Mädchen in 
 sein improvisiertes Badezimmer-Labor ein. Fotografieren und Bilder sind Ka
 rls große Leidenschaft. Lea ist beeindruckt von Karls „Licht-Zauberei
 “. Ob sie seine Gefühle erwidert\, weiß Karl aber immer noch nicht. Di
 e Zeit wird knapp. Die sechste Klasse ist fast vorbei. Nach den Sommerferi
 en werden Karl und Lea auf unterschiedliche Schulen gehen. Für Karl bleib
 t nur noch die gemeinsame Projektfahrt\, um Leas Freund zu werden...\n\nEi
 nfühlsam und auf Augenhöhe mit seinen jungen SchauspielerInnen erzählt 
 Regisseur Bernd Sahling die aufregende Geschichte einer ersten Liebe und d
 en damit verbundenen Unsicherheiten.<br>Familienfilm\, Romanze\, DE\, 2025
 \, 80Min. <br>Altersfreigabe: ab 0<br>Sprache: D<br>Darsteller: Jonathan K
 öhn\, Darius Pascu\, Cheyenne Aaliyah Roth\, Anna Bahners\, Elijas Ameren
 \, Tamino Gottlebe\, Malvina Hoffmann\, Niclas Meimberg\, Theresa Scholze\
 , Markus Friedmann\, Juliane Pempelfort\, Petra Kalkutschke\, Thomas Kaute
 nburger<br>Regie: Bernd Sahling<br>
DTSTART:20260314T143000
DTEND:20260314T173000
LOCATION:Schlachthofkino\, Ulrichertor 4\, 59494 Soest\, 
END:VEVENT
BEGIN:VTIMEZONE
TZID:Europe/Berlin
BEGIN:STANDARD
DTSTART:20260314T143000
TZNAME:CET
TZOFFSETTO:+0100
TZOFFSETFROM:+0100
END:STANDARD
END:VTIMEZONE
END:VCALENDAR
