BEGIN:VCALENDAR
PRODID:-//eluceo/ical//2.0/EN
VERSION:2.0
CALSCALE:GREGORIAN
BEGIN:VEVENT
UID:2cac0b602b32d0555a77f8978e13d469
DTSTAMP:20260424T180553Z
SUMMARY:Father Mother Sister Brother
DESCRIPTION:FATHER MOTHER SISTER BROTHER ist ein behutsam als Triptychon ko
 mponierter Spielfilm. Die drei Geschichten kreisen um die Beziehungen erwa
 chsener Kinder zu ihren teils distanzierten Eltern und untereinander. Jede
 s der drei Kapitel spielt in der Gegenwart\, jedes in einem anderen Land: 
 FATHER ist im Nordosten der USA angesiedelt\, MOTHER in Dublin und SISTER 
 BROTHER in Paris. Es ist eine Reihe von Charakterstudien\, ruhig\, beobach
 tend und ohne Wertung – und zugleich eine Komödie\, durchzogen von fein
 en Fäden der Melancholie. \n\nIn seinem neuesten Geniestreich lässt Regi
 e-Ikone Jim Jarmusch den hochkarätigen Cast um Tom Waits\, Adam Driver\, 
 Mayim Bialik\, Charlotte Rampling\, Cate Blanchett\, Vicky Krieps\, Indya 
 Moore und Luka Sabbat die Untiefen familiärer Beziehungen ausloten. FATHE
 R MOTHER SISTER BROTHER wurde bei den Filmfestspielen von Venedig mit dem 
 Goldenen Löwen ausgezeichnet.<br>Komödie\, Drama\, US\, IE\, FR\, 2025\,
  111Min. <br>Altersfreigabe: ab 12<br>Sprache: D<br>Darsteller: Tom Waits\
 , Adam Driver\, Mayim Bialik\, Charlotte Rampling\, Vicky Krieps\, Sarah G
 reene\, Indya Moore\, Luka Sabbat\, Françoise  Lebrun\, Cate Blanchett<br
 >Regie: Jim Jarmusch<br>
DTSTART:20260317T200000
DTEND:20260317T230000
LOCATION:Schlachthofkino\, Ulrichertor 4\, 59494 Soest\, 
END:VEVENT
BEGIN:VTIMEZONE
TZID:Europe/Berlin
BEGIN:STANDARD
DTSTART:20260317T200000
TZNAME:CET
TZOFFSETTO:+0100
TZOFFSETFROM:+0100
END:STANDARD
END:VTIMEZONE
END:VCALENDAR
