BEGIN:VCALENDAR
PRODID:-//eluceo/ical//2.0/EN
VERSION:2.0
CALSCALE:GREGORIAN
BEGIN:VEVENT
UID:3baec2c0931ffa73b98a67916bf91532
DTSTAMP:20260424T180845Z
SUMMARY:Petite Messe Solennelle\, Gioachino Rossini
DESCRIPTION:Chor des Städtischen Musikvereins
DTSTART:20260315T170000
DTEND:20260315T200000
LOCATION:Neu St. Thomäkirche\, Klosterstraße 8\, 
END:VEVENT
BEGIN:VTIMEZONE
TZID:Europe/Berlin
BEGIN:STANDARD
DTSTART:20260315T170000
TZNAME:CET
TZOFFSETTO:+0100
TZOFFSETFROM:+0100
END:STANDARD
END:VTIMEZONE
END:VCALENDAR
