BEGIN:VCALENDAR
PRODID:-//eluceo/ical//2.0/EN
VERSION:2.0
CALSCALE:GREGORIAN
BEGIN:VEVENT
UID:4cc9f79964b2332f7b703913b6c04fe7
DTSTAMP:20260425T002030Z
SUMMARY:Olaf Schubert und seine Freunde – Jetzt oder now!
DESCRIPTION:Dass ein Gedankengigant wie Olaf Schubert auf alle Fragen eine 
 Antwort weiß\, gilt als Grundschulwissen. Doch nun macht Schubert den nä
 chsten großen Schritt. Er stellt Fragen. Wichtige Fragen\, wie eben jene 
 – „Jetzt oder now?“. Also eine Frage\, die selbst Fragen stellt. Das
 s sich hierbei der Schwanz ins Gesicht beißt\, ist des Künstlers ureigen
 stes Anliegen. \n\nWie nebenbei schuf er mit dieser Frage einen Programmti
 tel mit internationalem Sound. Daran erkennen wir\, Schubert ist mittlerwe
 ile multilingual – wenn nicht gar zweisprachig. Ganz oben angekommen auf
  der Spitze des Eisbergs der Globalisierung\, steht ihm nun alles offen. D
 ie ganze Welt. Aber trotzdem bleibt uns der Ausnahmekünstler treu\, denn 
 er gibt auch Konzerte in Deutschland\, nicht viele\, aber immerhin ca. 745
 . \n\nDas zeigt\, er hat das geschafft\, was nur Wenigen gelingt\, trotz d
 es gigantischen Erfolgs bodenständig zu bleiben. Ein Olaf zum Anfassen m
 öchte er sein. Leider jedoch\, tut dies kaum jemand\, wie er gegenüber e
 inem großen Nachrichtenmagazin unlängst gestand. Auf der Bühne erfindet
  sich Schubert abermals völlig neu und genau deshalb bleibt er ganz der A
 lte. Er geht konsequent seinen Weg\, ist aber keiner\, der rote Linien üb
 erschreitet. Nein – er untergräbt sie. Gelbe Linien hingegen übersprin
 gt er. Dadurch ist er in der Lage\, Grenzen zu verschieben\, auch unsichtb
 are\, in alle Richtungen gleichzeitig. \n\nWie er das vollbringt\, weiß e
 r wohl selbst nicht. Ihn während seiner Show dabei beobachten zu dürfen\
 , ist jedoch ein grandioses Faszinosum\, denn sogar diese oder jene Flachs
 rakete wird währenddessen noch gezündet. \n\nDrum sagen fast alle (selbs
 t seine Oma)\, die ihn jemals live erleben durften\, einfach tiefst ergrif
 fen: Danke\, Olaf!\n\nSeine Freunde Jochen M. Barkas und Herr Stephan sind
  selbstverständlich wie immer mit dabei.
DTSTART:20281001T190000
DTEND:20281001T220000
LOCATION:Stadthalle Soest\, Dasselwall 1\, 59494 Soest\, 
END:VEVENT
BEGIN:VTIMEZONE
TZID:Europe/Berlin
BEGIN:DAYLIGHT
DTSTART:20281001T190000
TZNAME:CEST
TZOFFSETTO:+0200
TZOFFSETFROM:+0200
END:DAYLIGHT
END:VTIMEZONE
END:VCALENDAR
