BEGIN:VCALENDAR
PRODID:-//eluceo/ical//2.0/EN
VERSION:2.0
CALSCALE:GREGORIAN
BEGIN:VEVENT
UID:7fbae435a9d3ae6295939ebbd8ed9b54
DTSTAMP:20260425T004512Z
SUMMARY:Open Turntables - neu aufgelegt
DESCRIPTION:Ein Abend für Musikliebhaber*innen und Neugierige. \nAlle sind
  herzlich eingeladen\, ihre liebsten Stücke von LP\, CD oder einem Mobilg
 erät dem Publikum vorzustellen!\n\nAb 19 Uhr im Café Abspann.
DTSTART:20261020T190000
DTEND:20261020T220000
LOCATION:Kulturhaus Alter Schlachthof Soest\, Ulrichertor 4\, 59494 Soest\,
  
END:VEVENT
BEGIN:VTIMEZONE
TZID:Europe/Berlin
BEGIN:DAYLIGHT
DTSTART:20261020T190000
TZNAME:CEST
TZOFFSETTO:+0200
TZOFFSETFROM:+0200
END:DAYLIGHT
END:VTIMEZONE
END:VCALENDAR
