BEGIN:VCALENDAR
PRODID:-//eluceo/ical//2.0/EN
VERSION:2.0
CALSCALE:GREGORIAN
BEGIN:VEVENT
UID:90ad3e7bdf072fc4a2f08df0b768bdc6
DTSTAMP:20260424T233055Z
SUMMARY:Open Turntables - neu aufgelegt
DESCRIPTION:Ein Abend für Musikliebhaber*innen und Neugierige. \nAlle sind
  herzlich eingeladen\, ihre liebsten Stücke von LP\, CD oder einem Mobilg
 erät dem Publikum vorzustellen!\n\nAb 19 Uhr im Café Abspann.
DTSTART:20260421T190000
DTEND:20260421T220000
LOCATION:Kulturhaus Alter Schlachthof Soest\, Ulrichertor 4\, 59494 Soest\,
  
END:VEVENT
BEGIN:VTIMEZONE
TZID:Europe/Berlin
BEGIN:DAYLIGHT
DTSTART:20260421T190000
TZNAME:CEST
TZOFFSETTO:+0200
TZOFFSETFROM:+0200
END:DAYLIGHT
END:VTIMEZONE
END:VCALENDAR
