BEGIN:VCALENDAR
PRODID:-//eluceo/ical//2.0/EN
VERSION:2.0
CALSCALE:GREGORIAN
BEGIN:VEVENT
UID:6bb0f7d22272829ccef88e5a23ea9ae8
DTSTAMP:20260425T014157Z
SUMMARY:hörenswert - Musik am Mittwoch: The KOGS
DESCRIPTION:Das ist britisch-deutsche Songpoesie mit Herz und Wucht: \nMal 
 verzweifelt\, mal hoffnungsvoll – immer bewegend. \nGitarre und Stimme\,
  die direkt ins Herz gehen und gleichzeitig mitreißen! \nDas Acoustic Fol
 k Rock Duo "The Kogs" macht Rock mit Atmosphäre und Musik \nmit intensive
 r Leidenschaft in bester Singer/Songwriter Manier.
DTSTART:20260225T190000
DTEND:20260225T210000
LOCATION:Kulturhaus Alter Schlachthof Soest\, Ulrichertor 4\, 59494 Soest\,
  
END:VEVENT
BEGIN:VTIMEZONE
TZID:Europe/Berlin
BEGIN:STANDARD
DTSTART:20260225T190000
TZNAME:CET
TZOFFSETTO:+0100
TZOFFSETFROM:+0100
END:STANDARD
END:VTIMEZONE
END:VCALENDAR
