BEGIN:VCALENDAR
PRODID:-//eluceo/ical//2.0/EN
VERSION:2.0
CALSCALE:GREGORIAN
BEGIN:VEVENT
UID:d1a79a863f227b87a48b4159093e100f
DTSTAMP:20260425T004422Z
SUMMARY:Mit Liebe und Chansons
DESCRIPTION:Präsentiert von Soroptimist International Club Soest. SOROPTIM
 IST INTERNATIONAL (SI) ist eine Organisation berufstätiger Frauen\, die s
 ich auf lokaler\, nationaler und internationaler Ebene für die Stärkung 
 der Rechte von Frauen und Mädchen einsetzt.\nZwei Mal im Jahr heisst es V
 orhang auf für den SonntagsFilm der Soroptimistinnen. Vorher und im Ansch
 luss an die Vorstellung besteht die Möglichkeit\, sich bei einem Glas Sek
 t oder alkoholfreien Getränken auszutauschen und über die Arbeit von SOR
 OPTIMIST INTERNATIONAL zu informieren. Der Eintritt beträgt 13\,- €\, v
 on dem 5\,- € an das Frauenhaus Soest gespendet werden.\n\nFilminhalt:\n
 Paris in den 1960er Jahren: Esther Perez bringt ihr sechstes Kind zur Welt
 \, den kleinen Roland. Er wird mit einer Fehlbildung am Fuß geboren. Die 
 Ärzte sind sich sicher\, dass Roland niemals richtig laufen wird. Doch Es
 ther ist eine starke und sture Frau\, die ihrem Kopf und vor allem ihrem H
 erzen folgt. Entgegen aller Ratschläge verspricht sie Roland\, dass er an
  seinem ersten Schultag wie alle anderen Kinder auf eigenen Beinen in die 
 Schule gehen wird. Roland wird ein glücklicher Mensch sein\, dem es an ni
 chts mangelt\, dafür werde sie schon sorgen. Basta. Und Esther ist eine M
 utter\, die wahre Wunder vollbringen kann. Alles setzt sie nun daran\, ihr
  Versprechen zu halten und schleppt Roland von Orthopäde zu Heilerin und 
 wieder zurück. Mit unerschütterlichem Optimismus ist sie niemals um eine
  neue Strategie verlegen\, die ihrem Sohn das Glück bescheren kann\, auf 
 eigenen Beinen zu stehen\, selbst wenn der liebe Gott dabei eine Rolle spi
 elen muss und ihre jüdische Großfamilie dazu verdammt ist\, monatelang d
 en heilsamen Klängen französischer Chansons zu lauschen.\n\nMIT LIEBE UN
 D CHANSONS ist die unglaubliche\, aber wahre und mit viel Humor erzählte 
 Geschichte von der größten Liebe\, die es geben kann: die einer Mutter z
 u ihrem Kind. Hier gelingt eine großartige Familiensaga über die Hingabe
  und Kraft\, die darin liegt\, sich dem Schicksal gemeinsam zu stellen. Ei
 ne zutiefst berührende und warmherzige Tragikomödie\, die den Pfaden der
  Liebe folgt und dem Publikum ein wundervolles Kinoerlebnis schenkt.<br>Ko
 mödie\, Drama\, FR\, CA\, 2024\, 104Min. <br>Altersfreigabe: ab 0<br>Spra
 che: D<br>Darsteller: Leïla Bekhti\, Jonathan Cohen\, Joséphine Japy\, L
 eila Bekhti<br>Regie: Ken Scott<br>
DTSTART:20260308T110000
DTEND:20260308T140000
LOCATION:Schlachthofkino\, Ulrichertor 4\, 59494 Soest\, 
END:VEVENT
BEGIN:VTIMEZONE
TZID:Europe/Berlin
BEGIN:STANDARD
DTSTART:20260308T110000
TZNAME:CET
TZOFFSETTO:+0100
TZOFFSETFROM:+0100
END:STANDARD
END:VTIMEZONE
END:VCALENDAR
