BEGIN:VCALENDAR
PRODID:-//eluceo/ical//2.0/EN
VERSION:2.0
CALSCALE:GREGORIAN
BEGIN:VEVENT
UID:b98c4652e3ff9ee312d8f73bcf4d6042
DTSTAMP:20260424T180647Z
SUMMARY:Wilma will mehr
DESCRIPTION:Präsentiert vom DGB Kreisfrauenausschuss. \n\nElektrikerin\, M
 aschinistin\, Obst-Expertin\, Optimistin: Wilma ist eine Frau mit vielen T
 alenten\, zahllosen Zertifikaten und palettenweise Enttäuschungen. Bis En
 de der 90er-Jahre hat sie im Lausitzer Braunkohlerevier gelebt. Als aber i
 hr Mann mit einer anderen Frau splitterfasernackt Spaghetti kocht und ihr 
 der Job im Baumarkt gekündigt wird\, verlässt Wilma fluchtartig ihre Hei
 mat Richtung Wien. Mit Mitte 40 muss sie hier quasi bei Null anfangen und 
 landet schnell auf dem Handwerkerstrich. Bald schon repariert sie sich dur
 ch den Wiener Speckgürtel\, landet in einer linken Bohemian-WG\, wird Fac
 hfrau für Reparaturen aller Art und sogar Lehrerin in einer Traditions-Ta
 nzschule. Zwischen Walzer und Elektro-Installationen entdeckt Wilma ein Ge
 fühl\, das sie längst vergessen hatte: verliebt sein\, glücklich sein\,
  die aufgeregte Hoffnung auf etwas Neues. Hineingeworfen in die Unsicherhe
 iten einer Zukunft\, in der alles möglich ist\, wird Wilma ein anderer Me
 nsch.\n\nWILMA WILL MEHR ist eine charmante\, einfühlsam beobachtete und 
 mit schrägem Humor erzählte Tragikomödie\, die ebenso genau in der Wirk
 lichkeitsdarstellung ist wie sie in ihrer hoffnungsvollen und berührenden
  Melancholie optimistisch bleibt.<br>Drama\, DE\, 2025\, 112Min. <br>Alter
 sfreigabe: ab 0<br>Sprache: D<br>Darsteller: Fritzi Haberlandt\, Thomas Ge
 rber<br>Regie: Maren-Kea  Freese<br>
DTSTART:20260315T110000
DTEND:20260315T140000
LOCATION:Schlachthofkino\, Ulrichertor 4\, 59494 Soest\, 
END:VEVENT
BEGIN:VTIMEZONE
TZID:Europe/Berlin
BEGIN:STANDARD
DTSTART:20260315T110000
TZNAME:CET
TZOFFSETTO:+0100
TZOFFSETFROM:+0100
END:STANDARD
END:VTIMEZONE
END:VCALENDAR
