BEGIN:VCALENDAR
PRODID:-//eluceo/ical//2.0/EN
VERSION:2.0
CALSCALE:GREGORIAN
BEGIN:VEVENT
UID:73880f93d5a1b147f747b1d02a440b54
DTSTAMP:20260425T025142Z
SUMMARY:Das Cabinet des Dr. Caligari
DESCRIPTION:Live-Musik Vertonung durch „Interzone Perceptible“\n\nZum F
 ilm:\nInterZone Perceptible sind am 20.03.2026 um 20:00 Uhr wieder zurück
  im Schlachthofkino Soest\; es wird die Musik <-ENSLAVED 1726 zum expressi
 onistischen StummFilmHorror DAS CABINET DES DR. CALIGARI von Robert Wiene 
 live erklingen. "Du musst Caligari werden!" las man 1920 an den Litfasssä
 ulen Berlins\, darunter sah man zwei sich verkrampfende Hände. Man musste
  ins Kino\, um Näheres zu erfahren. Ein Irrer erzählt: von seiner Verlob
 ten\, vom Jahrmarkt\, von einem Schlafwandler\, von Mord\, Entführung und
  Dr. Caligari\, dem dämonischen Schausteller\, Wissenschaftler\, Arzt. Hi
 erzu führt die Klangreise der Industrial soundart Spezialisten für elekt
 rifiziertes Akkordeon\, E-Bass\, Live-Elektronik\, Zuspielungen\, Metalchi
 mes\, Screams\, Growls’n’whisperings\, Sampling\, Kindermegaphon\, Rau
 schgenerator\, Brüllteufel und Blasts in neueDistortionWinterwälder\, Bl
 ackMetalstreifungen jagen Film und Musik ins Irrenhaus. Herrrrreinspazzzii
 iieeeert.\n\n\nZur Band:\nInterZone Perceptible machen seit 26 Jahren Stum
 mfilmmusik. Mit elektrifiziertem Akkordeon\, E-Bass und Live-Elektronik ho
 len die beiden an der Folkwang Hochschule Essen studierten Musiker Sven He
 rmann und Matthias Hettmer den frühen Stummfilm ins 21. Jahrhundert. Sie 
 sind international tätig\, spielten auf Einladung des Goethe-Instituts in
  Süd-Korea\, Finnland und in den USA. Die INDUSTRIAL SOUNDART von InterZo
 ne Perceptible versucht keinen Moment\, äußere Film-Geschehnisse zu illu
 strieren\, sondern die inneren Welten der Film-Figuren\, wodurch der Film 
 auf eine völlig neue Weise erfahrbar wird. Unterstützt wird das Ganze du
 rch akribisches Sounddesign\, das die Illusion erweckt\, alle Klänge käm
 en direkt aus der Leinwand.<br>Thriller\, Krimi\, Stummfilm\, DE\, 1919\, 
 77Min. <br>Altersfreigabe: ab 6<br>Sprache: -<br>Darsteller: Werner Krauss
 \, Conrad Veidt\, Friedrich Fehér\, Lil Dagover\, Hans Heinrich von Tward
 owski<br>Regie: Robert Wiene<br>
DTSTART:20260320T200000
DTEND:20260320T230000
LOCATION:Schlachthofkino\, Ulrichertor 4\, 59494 Soest\, 
END:VEVENT
BEGIN:VTIMEZONE
TZID:Europe/Berlin
BEGIN:STANDARD
DTSTART:20260320T200000
TZNAME:CET
TZOFFSETTO:+0100
TZOFFSETFROM:+0100
END:STANDARD
END:VTIMEZONE
END:VCALENDAR
