BEGIN:VCALENDAR
PRODID:-//eluceo/ical//2.0/EN
VERSION:2.0
CALSCALE:GREGORIAN
BEGIN:VEVENT
UID:68d973ff7905e9878f3de81e7b780330
DTSTAMP:20260424T180530Z
SUMMARY:Marty Supreme
DESCRIPTION:Schuhverkäufer Marty hat nur ein Ziel im Leben: Weltmeister im
  Tischtennis zu werden und somit in den Olymp der gefeierten Athleten aufz
 usteigen\, zu denen er sich selbst ohnehin schon lange zählt. Um an einem
  Turnier in London teilnehmen zu können\, setzt der junge New Yorker alle
 s auf eine Karte\, muss sich im nervenaufreibenden Finale aber dem japanis
 chen Sportstar Endo geschlagen geben. Doch das ist erst der Anfang der Ody
 ssey eines Mannes\, der bereit ist\, für Ruhm und Erfolg alles zu riskier
 en. Denn für den kleinen Schuhladen seines Onkels ist Martys Traum defini
 tiv ein paar Nummern zu groß.\n\nTimothée Chalamet begeistert als Tischt
 enniswunderkind und charismatischer Filou MARTY SUPREME. Unter der Regie v
 on Josh Safdie führt uns sein weltumspannendes Abenteuer aus den Hinterh
 öfen von Manhattan bildgewaltig bis ins Paris\, London\, Kairo und Tokio 
 der 1950er Jahre. In weiteren Rollen brillieren u.a. Gwyneth Paltrow\, die
  hier ihr großes Leinwand-Comeback gibt\, DIE NANNY-Star Fran Drescher\, 
 Neuentdeckung Odessa A’zion sowie Tyler Okonma – bekannt als Tyler\, t
 he Creator – in seiner ersten Kinorolle.\nNeun Oscar®-Nominierungen!<br
 >Abenteuer\, Drama\, US\, 2025\, 149Min. <br>Altersfreigabe: FSK folgt<br>
 Sprache: D<br>Darsteller: Timothée Chalamet\, Gwyneth Paltrow\, Odessa A
 ’zion\, Tyler Okonma\, Fran Drescher\, Kevin O’Leary\, Sandra Bernhard
 \, Koto Kawaguchi\, Abel Ferrara<br>Regie: Josh Safdie<br>
DTSTART:20260322T200000
DTEND:20260322T230000
LOCATION:Schlachthofkino\, Ulrichertor 4\, 59494 Soest\, 
END:VEVENT
BEGIN:VTIMEZONE
TZID:Europe/Berlin
BEGIN:STANDARD
DTSTART:20260322T200000
TZNAME:CET
TZOFFSETTO:+0100
TZOFFSETFROM:+0100
END:STANDARD
END:VTIMEZONE
END:VCALENDAR
