BEGIN:VCALENDAR
PRODID:-//eluceo/ical//2.0/EN
VERSION:2.0
CALSCALE:GREGORIAN
BEGIN:VEVENT
UID:499584d68b9293a388f3516d4137ef4b
DTSTAMP:20260424T180637Z
SUMMARY:Bibi & Tina - Der Film
DESCRIPTION:Hex Hex! Die freche Hexe Bibi Blocksberg und ihre beste Freundi
 n Tina sind auf ihren Pferden Amadeus und Sabrina ein unschlagbares Team. 
 Doch in diesem Sommer müssen sie auf dem Martinshof einige Herausforderun
 gen meistern: Die hübsche\, intrigante Sophia von Gelenberg will sich Tin
 as Freund - Alex von Falkenstein - schnappen\, und der hinterhältige Gesc
 häftsmann Hans Kakmann hat es auf das süße Fohlen „Socke“ von Graf 
 Falko abgesehen. Als Bibi es auch noch mit ihrer Hexerei zu gut meint\, ge
 raten sogar die unzertrennlichen Freundinnen aneinander… Regisseur Detle
 v Buck überzeugt mit großartigem Humor und einer poppigen Umsetzung nich
 t nur das junge Publikum.<br>Family\, Abenteuer\, DE\, 2014\, 100Min. <br>
 Altersfreigabe: ab 0<br>Sprache: D<br>Darsteller: Lina Larissa Strahl \, L
 isa Marie Koroll \, Ruby O. Fee \, Louis Held <br>Regie: Detlev Buck <br>
DTSTART:20260327T143000
DTEND:20260327T173000
LOCATION:Schlachthofkino\, Ulrichertor 4\, 59494 Soest\, 
END:VEVENT
BEGIN:VTIMEZONE
TZID:Europe/Berlin
BEGIN:STANDARD
DTSTART:20260327T143000
TZNAME:CET
TZOFFSETTO:+0100
TZOFFSETFROM:+0100
END:STANDARD
END:VTIMEZONE
END:VCALENDAR
