BEGIN:VCALENDAR
PRODID:-//eluceo/ical//2.0/EN
VERSION:2.0
CALSCALE:GREGORIAN
BEGIN:VEVENT
UID:f690d397a6415b5f29a8cc8b963b141a
DTSTAMP:20260424T161712Z
SUMMARY:Extrawurst
DESCRIPTION:Eigentlich ist es reine Formsache: Heribert langjähriger Vorsi
 tzender des Tennisclubs Lengenheide\, und sein ehrgeiziger Stellvertreter 
 Matthias lassen über die Anschaffung eines Grills für die nächste Verei
 nsfeier abstimmen. Der hippe Werbetexter Torsten von Berlin in die Provinz
  ausgewandert\, haut noch einen flotten Spruch raus\, damit die dröge Ver
 sammlung ein schnelles Ende findet. Da schlägt seine Frau Melanie vor\, f
 ür ihren Doppelpartner Erol dem einzigen muslimischen Mitglied des Verein
 s\, einen zweiten Grill zu kaufen. Denn gläubige Muslime dürfen ihre Gri
 llwürste bekanntlich nicht auf einen Rost mit Schweinefleisch legen. Die 
 gut gemeinte Idee führt Satz für Satz zu einem turbulenten Schlagabtausc
 h\, bei dem Atheisten und Gläubige\, Deutsche und Türken\, Gutmenschen u
 nd Hardliner frontal aufeinanderprallen. Schnell wird allen klar: Es geht 
 hier um viel mehr als einen Grill...\nEines der witzigsten und erfolgreich
 sten Theaterstücke der letzten Jahre kommt auf die große Leinwand: Regis
 seur Marcus H. Rosenmüller inszenierte den Bühnenhit der Comedy-Autoren 
 Dietmar Jacobs und Moritz Netenjakob mit einem brillanten Ensemble.<br>Kom
 ödie\, DE\, 2025\, 98Min. <br>Altersfreigabe: ab 12<br>Sprache: D<br>Dars
 teller: Hape Kerkeling\, Gaby Dohm\, Anja Knauer\, Friedrich Mücke\, Fahr
 i Yardim\, Christoph Maria Herbst<br>Regie: Marcus H. Rosenmüller<br>
DTSTART:20260327T170000
DTEND:20260327T200000
LOCATION:Schlachthofkino\, Ulrichertor 4\, 59494 Soest\, 
END:VEVENT
BEGIN:VTIMEZONE
TZID:Europe/Berlin
BEGIN:STANDARD
DTSTART:20260327T170000
TZNAME:CET
TZOFFSETTO:+0100
TZOFFSETFROM:+0100
END:STANDARD
END:VTIMEZONE
END:VCALENDAR
