BEGIN:VCALENDAR
PRODID:-//eluceo/ical//2.0/EN
VERSION:2.0
CALSCALE:GREGORIAN
BEGIN:VEVENT
UID:2dc9cfb702b7aef9bd552f354ce2b106
DTSTAMP:20260424T140332Z
SUMMARY:JIGS JamSession - open stage
DESCRIPTION:JIGS JamSession - open stage\n\nPlay with a real band! Die JIGS
  sorgt für die Rhythm Section\, die einsteigenden Musiker*innen für melo
 dische & energiegeladene Solos. Mitspielen\, singen oder einfach zuhören.
  Alles ist möglich. Kommt vorbei\, der Eintritt ist frei!
DTSTART:20260303T190000
DTEND:20260303T220000
LOCATION:Kulturhaus Alter Schlachthof Soest\, Ulrichertor 4\, 59494 Soest\,
  
END:VEVENT
BEGIN:VTIMEZONE
TZID:Europe/Berlin
BEGIN:STANDARD
DTSTART:20260303T190000
TZNAME:CET
TZOFFSETTO:+0100
TZOFFSETFROM:+0100
END:STANDARD
END:VTIMEZONE
END:VCALENDAR
