BEGIN:VCALENDAR
PRODID:-//eluceo/ical//2.0/EN
VERSION:2.0
CALSCALE:GREGORIAN
BEGIN:VEVENT
UID:e053ce0fcc2843598d996f1b45be5fd4
DTSTAMP:20260425T014907Z
SUMMARY:Korallen und Quallen - Corallium und Cinquecento Medusae - Internat
 ional bekannte Ausstellung einer bedrohten Unterwasserwelt der Künstlerin
  Rosanna Baledda
DESCRIPTION:Korallen und Quallen - Corallium und Cinquecento Medusae\n\nDie
  international bekannte Ausstellung einer bedrohten Unterwasserwelt aus\nh
 underten filigranen Quallen und farbenfrohen Korallen der Schweizer Künst
 lerin\nRosanna Baledda macht für einen Monat Station in der Stadtbüchere
 i Soest.\n\nCORALLIUM - Hunderte gehäkelter Korallen warnen vor der Zerst
 örung der Korallenriffe. \nDurch die Installation möchte Rosanna Baledda
  Aufmerksamkeit auf den Umstand lenken\, welchen unschätzbaren Verlust f
 ür die Artenvielfalt die Vernichtung von Korallen und Korallenriffen dars
 tellen würde.\n\nCINQUECENTO MEDUSAE ist eine künstlerische Installation
  hunderter Quallen aus Schleier und Organza.\nDiese künstlerische und spi
 elerische Kreation bringt auf einem ganz besonderen Weg die Aufmerksamkeit
  auf Quallen und deren Verbindung zu Umweltverschmutzung und Klimawandel i
 n den Ozeanen der Welt.\n\nDie Ausstellung kann den ganzen Februar außer 
 mittwochs in der Stadtbücherei Soest besucht werden. \nIn den Open Librar
 y-Zeiten benötigen Sie eine persönlichen\, gültigen Mitgliedsausweis.\n
 Diese sind immer Montag\, Dienstag\, Donnerstag\, Freitag von 13 bis 15 Uh
 r und von 18 bis 22 Uhr\, Samstag von 13 bis 22 Uhr und den ganzen Sonntag
 .\nKommen Sie vorbei!
DTSTART:20260207T100000
DTEND:20260207T220000
LOCATION:Stadtbücherei Soest\, Severinstraße 10\, 59494 Soest\, 
END:VEVENT
BEGIN:VTIMEZONE
TZID:Europe/Berlin
BEGIN:STANDARD
DTSTART:20260207T100000
TZNAME:CET
TZOFFSETTO:+0100
TZOFFSETFROM:+0100
END:STANDARD
END:VTIMEZONE
END:VCALENDAR
