BEGIN:VCALENDAR
PRODID:-//eluceo/ical//2.0/EN
VERSION:2.0
CALSCALE:GREGORIAN
BEGIN:VEVENT
UID:6db3435b87bee7faa1976e7935389080
DTSTAMP:20260424T180535Z
SUMMARY:Das Grüne Quartier | Zukunft. Nachhaltig. Pflanzen.
DESCRIPTION:Grünes Quartier Soest – Frühling\, der begeistert! \nWenn d
 ie Tage länger werden und die Lust auf Neues wächst\, ist es Zeit für d
 as Grüne Quartier!\nFür den 21. März von 12–18 Uhr\nund den 22. März
  von 12–17 Uhr \nlädt das Kulturhaus Alter Schlachthof zum Entdecken\, 
 Stöbern und Mitmachen ein.\n\nNachhaltig. Kreativ. Lebendig.\nFreut euch 
 auf einen bunten Markt voller Ideen: liebevoll gestaltete Handwerksprodukt
 e\, \nUp- & Recycling-Designs\, Schallplatten\, Jungpflanzen\, Frühlingsb
 lüher\, Kräuter und \nviele besondere Fundstücke. Ergänzt wird das Gan
 ze durch Infostände\, die zeigen\, wie spannend\nNachhaltigkeit sein kann
  – vom bewusstem Konsum über vegane Ernährung bis hin zu grünem Gärt
 nern.\n\nSelbermachen erwünscht\nOb Groß oder Klein – hier wird auspro
 biert und gestaltet: \nMalen mit Naturfarben\, kreative Aktionen der Machb
 arschaft vom Lebensgarten oder das Basteln \nausgefallener Kopfbedeckungen
  aus Recyclingmaterialien machen Nachhaltigkeit spielerisch erlebbar.\n\nG
 enuss & gute Vibes\nLeckere Crêpes\, Pasta und frische Vitamin-Drinks sor
 gen für neue Energie. \nDazu entspannte Beats im Biergarten – perfekt z
 um Ankommen\, Abschalten und Genießen.\n\nTauschen statt kaufen\nBringt e
 ure Gartenpflanzen mit und entdeckt neue Schätze bei der Pflanzentauschb
 örse \nin der NaturOase des BUND.\nLasst uns gemeinsam den Frühling will
 kommen heißen\, Ideen teilen und zeigen\, wie gut sich Nachhaltigkeit anf
 ühlen kann.\n\nMit freundlicher Unterstützung der Sparkasse Hellweg-Lipp
 e.\n\nEintritt 1\,50€ (Richtwert)
DTSTART:20260322T120000
DTEND:20260322T170000
LOCATION:Kulturhaus Alter Schlachthof Soest\, Ulrichertor 4\, 59494 Soest\,
  
END:VEVENT
BEGIN:VTIMEZONE
TZID:Europe/Berlin
BEGIN:STANDARD
DTSTART:20260322T120000
TZNAME:CET
TZOFFSETTO:+0100
TZOFFSETFROM:+0100
END:STANDARD
END:VTIMEZONE
END:VCALENDAR
