BEGIN:VCALENDAR
PRODID:-//eluceo/ical//2.0/EN
VERSION:2.0
CALSCALE:GREGORIAN
BEGIN:VEVENT
UID:18b9b1c5dba898da8828d83b003bff3c
DTSTAMP:20260424T160443Z
SUMMARY:Pulsar Trio
DESCRIPTION:Auf der Jagd nach dem perfekten musikalischen Moment agiert das
  Trio instinktiv wie ein einziger \nOrganismus und mit einem über die Jah
 re entwickelten\, gemeinsamen und untrüglichen Gespür für den \nureigen
 en Klangkosmos in 7.1. Die Thüringer Allgemeine schrieb über ein Konzert
 : „Die Grenzen zwischen \nKomposition und freier Interpretation schienen
  ebenso fließend wie die zwischen Okzident und Orient. Der \nscheinbare G
 egensatz der Instrumente wurde zum perfekten Zusammenspiel.“\n\nDie auß
 ergewöhnliche und wohl einzigartige Besetzung aus Aaron Christ (Schlagzeu
 g\, Percussion\, FX)\, \nBeate Wein (Klavier\, Synths\, FX) und Matyas Wol
 ter (Sitar\, Surbahar\, FX) ermöglicht es dem Trio\, beständig \nauf eig
 entlich schmalem Grat musikalisches Neuland auszuloten. Das kann in Gestal
 t einer komplexen\, \naltindischen Kompositionsform namens Dhrupad daherko
 mmen\, die dem Titelsong zugrunde liegt\, und in \nder Bearbeitung der dre
 i ein komplett anderes Antlitz bekommt – oder der Einsatz einer Bass-Sit
 ar \nnamens Surbahar statt eines Kontrabasses\, mehr Elektronik als zuvor 
 und mehr direkte Entlehnungen \naus dem klassischen Raga-Repertoire. \n\nI
 mmer ist das Resultat verspielt und virtuos\, zwischen instrumentaler Ekst
 ase\, intimer Introspektion und \nfeinfühligen Klangexperimenten\, eine F
 usion dreier individueller musikalischer Charaktere mit ganz \nunterschied
 lichen Prägungen\, die vom Pop mit großer Geste\, über DDR-Punk und Noi
 se\, Jazz\, Bach\, \nMinimal Music bis zur klassischen Sitar-Tradition aus
  Indien reichen
DTSTART:20260508T200000
DTEND:20260508T223000
LOCATION:Kulturhaus Alter Schlachthof Soest\, Ulrichertor 4\, 59494 Soest\,
  
END:VEVENT
BEGIN:VTIMEZONE
TZID:Europe/Berlin
BEGIN:DAYLIGHT
DTSTART:20260508T200000
TZNAME:CEST
TZOFFSETTO:+0200
TZOFFSETFROM:+0200
END:DAYLIGHT
END:VTIMEZONE
END:VCALENDAR
