BEGIN:VCALENDAR
PRODID:-//eluceo/ical//2.0/EN
VERSION:2.0
CALSCALE:GREGORIAN
BEGIN:VEVENT
UID:0d0d867375c112d4d240e0255e6ff586
DTSTAMP:20260425T014821Z
SUMMARY:Winterstrahlen
DESCRIPTION:Die Geschäftsstelle Klima holt Präsentationen des WWFs nach S
 oest. Acht berühmte Kunstwerke der Landschaftsmalerei werden auf ihre kli
 matische Zukunft befragt: Wie sehen die berühmten Kreidefelsen auf Rügen
 \, die Caspar David Friedrich 1818 malte\, 2050 oder 2100 aus? Was passier
 t mit Claude Monets oder Vincent van Goghs Landschaftsdarstellungen in Anb
 etracht der Erderwärmung? Die Animationen zeigen: auch die Landschaften\,
  die wir aus den Highlights der modernen Kunst kennen\, wären betroffen.
DTSTART:20260216T173000
DTEND:20260216T220000
LOCATION:Museum Wilhelm Morgner\, Thomästraße 1\, 59494 Soest\, 
END:VEVENT
BEGIN:VTIMEZONE
TZID:Europe/Berlin
BEGIN:STANDARD
DTSTART:20260216T173000
TZNAME:CET
TZOFFSETTO:+0100
TZOFFSETFROM:+0100
END:STANDARD
END:VTIMEZONE
END:VCALENDAR
