BEGIN:VCALENDAR
PRODID:-//eluceo/ical//2.0/EN
VERSION:2.0
CALSCALE:GREGORIAN
BEGIN:VEVENT
UID:1f0eeed2c6b3d5d53b2bcbe214af436e
DTSTAMP:20260425T014827Z
SUMMARY:Sonderöffnung am Rosenmontag
DESCRIPTION:
DTSTART:20260216T110000
DTEND:20260216T170000
LOCATION:Burghofmuseum\, Burghofstraße 22\, 59494 Soest\, 
END:VEVENT
BEGIN:VTIMEZONE
TZID:Europe/Berlin
BEGIN:STANDARD
DTSTART:20260216T110000
TZNAME:CET
TZOFFSETTO:+0100
TZOFFSETFROM:+0100
END:STANDARD
END:VTIMEZONE
END:VCALENDAR
