BEGIN:VCALENDAR
PRODID:-//eluceo/ical//2.0/EN
VERSION:2.0
CALSCALE:GREGORIAN
BEGIN:VEVENT
UID:a58ecdd3edf84a010a73a86033b4b81c
DTSTAMP:20260424T135319Z
SUMMARY:Zurück ins Licht - (Fast) vergessene Soester Künstlerinnen
DESCRIPTION:In der Kunststadt Soest trifft der Kunstinteressierte fast unen
 twegt auf die Namen von männlichen Künstlern. Einige sind sehr präsent 
 wie Wilhelm Morgner\, Otto Modersohn\, Hans Kaiser\, Eberhard Viegener –
  oder aktuell Jo Kuhn. Andere dagegen sind (fast) vergessen. 2023 hat der 
 Kunstverein Kreis Soest e. V. begonnen\, den (fast) vergessenen Künstlern
  ein „Denkmal“ zu setzen\, durch eine Ausstellung und eine Publikation
 . Aber wo waren die Künstlerinnen?\nIn der Ausstellungsreihe werden gezei
 gt: Ursula-Lisa Deventer (1941–2017)\, Fia Ernst (Sophia-Maria von Waldt
 hausen-Brede\, 1920–2010)\, Brigitte Lange-Helms (1940–2014)\, Brigitt
 e Loeper (1958–2013). Diese vier Künstlerinnen\, deren Lebenszeit eine 
 vergleichbare Spanne umfasst\, stehen für viele weibliche Künstlerinnen\
 , die mit Beharrlichkeit und Talent Kunst sichtbar gemacht haben – weibl
 iche Kunst\, die lange ignoriert wurde. \n\nDie Ausstellung belegt eindruc
 ksvoll: Es gibt talentierte Künstlerinnen\, die in Soest vorübergehend o
 der länger gelebt und gearbeitet haben\, die Epochen\, Strömungen und Ku
 nstrichtungen repräsentieren – also Künstlerinnen\, die man einfach ke
 nnen muss. Deswegen holt der Kunstverein sie „Zurück ins Licht“ –  
 zwischen (fast) vergessen und unvergessen liegt manchmal nur eine Ausstell
 ung. \n\nZur Ausstellung erscheint eine Begleitpublikation.
DTSTART:20260428T130000
DTEND:20260428T170000
LOCATION:Museum Wilhelm Morgner\, Thomästraße 1\, 59494 Soest\, 
END:VEVENT
BEGIN:VTIMEZONE
TZID:Europe/Berlin
BEGIN:DAYLIGHT
DTSTART:20260428T130000
TZNAME:CEST
TZOFFSETTO:+0200
TZOFFSETFROM:+0200
END:DAYLIGHT
END:VTIMEZONE
END:VCALENDAR
