BEGIN:VCALENDAR
PRODID:-//eluceo/ical//2.0/EN
VERSION:2.0
CALSCALE:GREGORIAN
BEGIN:VEVENT
UID:f01a740c1bce3498a6a23854ab84d80b
DTSTAMP:20260425T014816Z
SUMMARY:Führung am Familiensonntag
DESCRIPTION:Leben und Ende\, Erinnern und Vergessen\, Freude und Überschwa
 ng: die Kunst ist wie das Leben\, voller schöner und trauriger Seiten. Mi
 chael Stockhausen\, Leiter der Museen\, nimmt große und junge Gäste mit 
 durch die aktuellen Ausstellungen. Die gezeigten Werke sprechen diese wech
 selvollen Seiten an und machen deutlich\, dass die Hoffnung auf Unsterblic
 hkeit und das Vergessen nah beieinanderliegen. Letztlich ist alles eine Fr
 age der farbigen Dialoge\, die das Leben unsterblich bereichern.
DTSTART:20260301T110000
DTEND:20260201T123000
LOCATION:Museum Wilhelm Morgner\, Thomästraße 1\, 59494 Soest\, 
END:VEVENT
BEGIN:VTIMEZONE
TZID:Europe/Berlin
BEGIN:STANDARD
DTSTART:20260301T110000
TZNAME:CET
TZOFFSETTO:+0100
TZOFFSETFROM:+0100
END:STANDARD
END:VTIMEZONE
END:VCALENDAR
