BEGIN:VCALENDAR
PRODID:-//eluceo/ical//2.0/EN
VERSION:2.0
CALSCALE:GREGORIAN
BEGIN:VEVENT
UID:577498259e16db003c228f91328a8d78
DTSTAMP:20260425T025153Z
SUMMARY:Das Team-Quiz 42!
DESCRIPTION:Wie hieß der zweite Mann auf dem Mond? In welcher Stadt ermitt
 eln die Drei Fragezeichen? \nWie oft gewann Boris Becker Wimbledon? \nSeit
  wann gibt es das Kulturhaus "Alter Schlachthof"?\nWer das weiß\, sollte 
 auf keinen Fall das Teamquiz im Kulturhaus verpassen \nund sich gleich im 
 Team anmelden!\n\n6 Spielrunden\, 6 Themengebiete und jede Menge Spaß!\nB
 ei den Fragen von Quizmaster Mario Siegesmund können sich Teams von 2 bis
  6 Teilnehmer \nin verschiedenen Kategorien messen und maximal 42 Punkte e
 rzielen.\n\nDer Spaß steht im Vordergrund\, wenn das Wissen der Teams bei
  interessanten Themen \nund skurrilen Schätzfragen abgeklopft wird.\nNat
 ürlich alles ohne Handy\, sondern durch eigenen Gehirnschmalz.\nEin Highl
 ight: Die Musik-Runde!\n\nNeben dem Ruhm winkt dem Gewinner-Team auch ein 
 kleiner Preis.\n\nAnmeldungen der Teams direkt hier: Kulturhaus Alter Schl
 achthof\nTelefon: 02921/311 01\nMail: info@schlachthof-soest.de\nDie Teiln
 ahmegebühr beträgt 6€ pro Person.\nEinlass: 18.30 Uhr\n(Ausnahmsweise 
 findet an diesem Abend alles 30 Minuten später statt\, als normalerweise)
DTSTART:20260311T200000
DTEND:20260311T220000
LOCATION:Kulturhaus Alter Schlachthof Soest\, Ulrichertor 4\, 59494 Soest\,
  
END:VEVENT
BEGIN:VTIMEZONE
TZID:Europe/Berlin
BEGIN:STANDARD
DTSTART:20260311T200000
TZNAME:CET
TZOFFSETTO:+0100
TZOFFSETFROM:+0100
END:STANDARD
END:VTIMEZONE
END:VCALENDAR
