BEGIN:VCALENDAR
PRODID:-//eluceo/ical//2.0/EN
VERSION:2.0
CALSCALE:GREGORIAN
BEGIN:VEVENT
UID:ab9b49ff6e83542ad7debe1b30ea6748
DTSTAMP:20260424T232939Z
SUMMARY:Poetry Slam | Südwestfalen-Tour
DESCRIPTION:Ein Saal\, der aus den Jubelstürmen nicht mehr rauskommt\, die
  Stimmung kocht. Es wurde gelacht\, \ngeweint\, es wurden Horizonte erweit
 ert\, Perspektiven eröffnet und das alles in gerade einmal zwei \nStunden
 . Das ist Poetry Slam! Das moderne Entertainment-Format kombiniert das Bes
 te aus Comedy\, \nPoesie\, Gesellschaftskritik\, Lyrik und Klamauk und ver
 wandelt jede Bühne in ein wahres Spektakel der \nUnterhaltungskunst. Und 
 das beste: IHR\, das Publikum\, dürft in diesem Wettbewerb entscheiden \n
 wen ihr gut fandet und was eher etwas für die Mülltonne ist.\n\nDie komm
 ende Show steht unter einem ganz besonderen Stern\, denn das einmalige Kon
 zept \n„Südwestfalen-Tour“ macht bei uns im Alten Schlachthof halt. 4
  der renommiertesten und beliebtesten \nSlam Poets aus dem gesamten deutsc
 hsprachigen Raum reisen ins bescheidene Soest und präsentieren\neine Show
 \, die Ihresgleichen sucht. Darüber hinaus wird ein geladener Gast sogar 
 einen Text nur über\nden Kreis Soest schreiben und am Abend vortragen. Di
 e Moderation wird sich vorwiegend auf den Kreis \nkonzentrieren und mit Fu
 nfacts und vielleicht auch kleinen Quiz-Einlagen dem Publikum zeigen: \nEs
  muss nicht immer das Ruhrgebiet oder Düsseldorf oder Köln sein. Südwes
 tfalen hat einiges zu bieten! \nUnd darauf kann man stolz sein!\nSeid dabe
 i\, wenn die Südwestfalen-Tour mit ihrer Poetry Slam-Show bei uns Halt ma
 cht.
DTSTART:20260416T200000
DTEND:20260416T223000
LOCATION:Kulturhaus Alter Schlachthof Soest\, Ulrichertor 4\, 59494 Soest\,
  
END:VEVENT
BEGIN:VTIMEZONE
TZID:Europe/Berlin
BEGIN:DAYLIGHT
DTSTART:20260416T200000
TZNAME:CEST
TZOFFSETTO:+0200
TZOFFSETFROM:+0200
END:DAYLIGHT
END:VTIMEZONE
END:VCALENDAR
