BEGIN:VCALENDAR
PRODID:-//eluceo/ical//2.0/EN
VERSION:2.0
CALSCALE:GREGORIAN
BEGIN:VEVENT
UID:56014bd419acb71cd36fb71162c25d7b
DTSTAMP:20260424T121236Z
SUMMARY:FARBDIALOGE I Jo Kuhn
DESCRIPTION:Jo Kuhn widmet sich seit sechs Jahrzehnten ganz der Farbe: „D
 ie Auseinandersetzung mit der Malerei ist ein geistiger Akt\, der direkt v
 on der Farbe über das Auge zu den Sinnen ausgelöst wird. Einen ebenso di
 rekten und weiten Empfindungszugang wie durch den Laut in der Musik erlaub
 t die Farbe in der Malerei. Subtilsten wie auch lyrischen Empfindungen\, d
 ie gar nicht in Worte zu fassen sind\, bietet die Farbe ihr reiches Spektr
 um. Der Sog der Stille\, der von Malerei ausgehen kann\, gehört zu ihren 
 starken Eindrücken.“ (Jo Kuhn)\n\nErstmals werden in dieser umfangreich
 en musealen Einzelausstellung Werke – von großformatigen Harzwachsmaler
 eien auf Leinwand\, über Gouachen auf Papier und intimen Pastellen bis hi
 n zu aktuellen Pigmentdrucken – aus allen Schaffensphasen seines weiter 
 wachsenden Lebenswerks gezeigt\, die Jo Kuhns facettenreiche wie konsequen
 te Entwicklung eindrucksvoll belegen.
DTSTART:20260425T000000
DTEND:20260425T235900
LOCATION:RAUM SCHROTH im Museum Wilhelm Morgner\, Thomästraße 1\, 59494 S
 oest\, 
END:VEVENT
BEGIN:VTIMEZONE
TZID:Europe/Berlin
BEGIN:DAYLIGHT
DTSTART:20260425T000000
TZNAME:CEST
TZOFFSETTO:+0200
TZOFFSETFROM:+0200
END:DAYLIGHT
END:VTIMEZONE
END:VCALENDAR
