BEGIN:VCALENDAR
PRODID:-//eluceo/ical//2.0/EN
VERSION:2.0
CALSCALE:GREGORIAN
BEGIN:VEVENT
UID:fc1c3aee35869ce806f6fa44c5a60f1e
DTSTAMP:20260425T014741Z
SUMMARY:hörenswert - Musik am Mittwoch: Luke Wallace (CA)
DESCRIPTION:Luke Wallace ist eine treibende Kraft in der Welt der Folkmusik
 . Als Songwriter\, Redner und Chorarrangeur setzt er sein Talent dafür ei
 n\, Umweltanliegen zu unterstützen und positive Veränderungen anzustoße
 n. Luke kommt ursprünglich aus Vancouver und widmet sich seit über zehn 
 Jahren dem Touren\, Aufnehmen und dem engagierten Einsatz für das Wohl vo
 n Mensch und Umwelt.\n\n2023 trat Luke als Featured Performer bei der "Uni
 ted Nations Water Conference" in New York auf\, der ersten Konferenz diese
 r Art seit einer Generation. Mit Hunderten von Konzerten in ganz Nordameri
 ka hat er sich zu einer äußerst gefragten Stimme im Einsatz gegen den Kl
 imawandel entwickelt und lässt durch seine Musik Hoffnung und Mut zum Han
 deln wachsen. \n\nSeine politisch geprägte Folkmusik hat ihm eine treue A
 nhängerschaft und den Ruf eines modernen Pete Seeger eingebracht. Ob bei 
 Festivals\, Kundgebungen oder in Konzertsälen – Lukes Wallace`s Musik i
 st der eindringliche Weckruf an alle\, um sich den sozialen und ökologisc
 hen Herausforderungen unserer Gegenwart entschlossen zu stellen. Mit seine
 m neuesten Album „The Dandelion Resistance“ entdeckt Luke auch neue We
 ge der Folkmusik und zeigt\, dass Kunst ein kraftvolles Werkzeug für gese
 llschaftliche Veränderungen sein kann.
DTSTART:20260325T190000
DTEND:20260325T213000
LOCATION:Kulturhaus Alter Schlachthof Soest\, Ulrichertor 4\, 59494 Soest\,
  
END:VEVENT
BEGIN:VTIMEZONE
TZID:Europe/Berlin
BEGIN:STANDARD
DTSTART:20260325T190000
TZNAME:CET
TZOFFSETTO:+0100
TZOFFSETFROM:+0100
END:STANDARD
END:VTIMEZONE
END:VCALENDAR
