BEGIN:VCALENDAR
PRODID:-//eluceo/ical//2.0/EN
VERSION:2.0
CALSCALE:GREGORIAN
BEGIN:VEVENT
UID:970aea45b384c28bbd8fc299e7a21983
DTSTAMP:20260425T014742Z
SUMMARY:Bündnis SOEST IST BUNT - Offenes Treffen
DESCRIPTION:Unser erstes Treffen dieses Jahr im Februar\, diente neben dem 
 Jahresrückblick auf 2025 natürlich dem Ausblick auf das Jahr 2026. So ha
 ben wir bereits einige Termine festgelegt\, die uns in diesem Jahr wieder 
 zusammenführen werden. Entsprechend flossen auch neue Ideen für Projekte
  ein. Zum einen ist eine Kooperation mit dem Verein Würfeljagd e.V. gepla
 nt\, der wiederum Partner vom KulturQuartier Soest ist.  Der Verein wird 
 sich beim Offenen Treffen vorstellen. Zudem sind weitere Aktionen in Vorbe
 reitung\, wie z.B.  der Internationale Tag gegen Rassismus\, das Stadtrade
 ln sowie der Aktionstrag zum Tag des Grundgesetzes (jeweils im Mai). Wer s
 ich an den Vorbereitungen und Umsetzungen beteiligen möchte ist herzlich 
 eingeladen\n\nTreffpunkt ist am 04.03.2026 um 19 Uhr in der Gaststätte im
  Kulturhaus Alter Schlachthof (Wenn nicht anders angegeben).
DTSTART:20260304T190000
DTEND:20260304T210000
LOCATION:Kulturhaus Alter Schlachthof Soest\, Ulrichertor 4\, 59494 Soest\,
  
END:VEVENT
BEGIN:VTIMEZONE
TZID:Europe/Berlin
BEGIN:STANDARD
DTSTART:20260304T190000
TZNAME:CET
TZOFFSETTO:+0100
TZOFFSETFROM:+0100
END:STANDARD
END:VTIMEZONE
END:VCALENDAR
