BEGIN:VCALENDAR
PRODID:-//eluceo/ical//2.0/EN
VERSION:2.0
CALSCALE:GREGORIAN
BEGIN:VEVENT
UID:b833d39aa8aa6a5e1d912bd669e2e605
DTSTAMP:20260424T135324Z
SUMMARY:Salsa Kurs für Anfänger ohne Vorkenntnisse
DESCRIPTION:Salsa Kurs für Anfänger\n\nIn unserem 5-wöchigen Kurs erwart
 et dich ein energiegeladener Einstieg in die Welt der Salsa Cubana. Freue 
 dich auf Rhythmus- und Bewegungsübungen\, den Salsa-Grundschritt\, erste 
 einfache Figuren und vor allem auf jede Menge Spaß und mitreißende Musik
 .\n\nUnser Unterricht ist locker und praxisnah\, kein klassischer Tanzschu
 lunterricht. Du kannst dich mit Tanzpartner oder auch alleine anmelden.\n\
 nWir sind Javier und Karen\, leidenschaftliche Salsa-Tänzer seit über 10
  Jahren und freuen uns darauf\, dich mit dem Salsa-Fieber anzustecken.\n\n
 Ein weiterer Kurs ist ab dem 15. Juni in Planung. Infos und Kontakt unter 
 www.salsasoest.de
DTSTART:20260427T190000
DTEND:20260427T200000
LOCATION:KulturQuartier - Spiegelraum\, Ulrichertor 4\, 59494 Soest\, 
END:VEVENT
BEGIN:VTIMEZONE
TZID:Europe/Berlin
BEGIN:DAYLIGHT
DTSTART:20260427T190000
TZNAME:CEST
TZOFFSETTO:+0200
TZOFFSETFROM:+0200
END:DAYLIGHT
END:VTIMEZONE
END:VCALENDAR
