BEGIN:VCALENDAR
PRODID:-//eluceo/ical//2.0/EN
VERSION:2.0
CALSCALE:GREGORIAN
BEGIN:VEVENT
UID:06dd4025d92c86a79555137ddfbb06af
DTSTAMP:20260424T180759Z
SUMMARY:Salsa Cubana -  Salsa Tanzkurs für Anfänger/innen
DESCRIPTION:Salsa Kurs für Anfänger\n\nIn unserem 5-wöchigen Kurs erwart
 et dich ein energiegeladener Einstieg in die Welt der Salsa Cubana. Freue 
 dich auf Rhythmus- und Bewegungsübungen\, den Salsa-Grundschritt\, erste 
 einfache Figuren und vor allem auf jede Menge Spaß und mitreißende Musik
 .\n\nUnser Unterricht ist locker und praxisnah\, kein klassischer Tanzschu
 lunterricht. Du kannst dich mit Tanzpartner oder auch alleine anmelden.\n\
 nWir sind Javier und Karen\, leidenschaftliche Salsa-Tänzer seit über 10
  Jahren und freuen uns darauf\, dich mit dem Salsa-Fieber anzustecken.\n\n
 Ein weiterer Kurs ist ab dem 20. April in Planung. Infos und Kontakt unter
  www.salsasoest.de
DTSTART:20260323T190000
DTEND:20260323T200000
LOCATION:KulturQuartier - Spiegelraum\, Ulrichertor 4\, 59494 Soest\, 
END:VEVENT
BEGIN:VTIMEZONE
TZID:Europe/Berlin
BEGIN:STANDARD
DTSTART:20260323T190000
TZNAME:CET
TZOFFSETTO:+0100
TZOFFSETFROM:+0100
END:STANDARD
END:VTIMEZONE
END:VCALENDAR
