BEGIN:VCALENDAR
PRODID:-//eluceo/ical//2.0/EN
VERSION:2.0
CALSCALE:GREGORIAN
BEGIN:VEVENT
UID:c62b3c635dccae8e64995514e1f2bf7e
DTSTAMP:20260425T014902Z
SUMMARY:Die kleine Bühne im ABSPANN: Jason Janzen
DESCRIPTION:Ich bin Jason Janzen (18) und studiere aktuell Audio Engineerin
 g. Musik ist für mich wie das Eintauchen in eine neue Welt mit unendliche
 n Möglichkeiten und Gefühlen. Ich denke\, dass wenn Musik gemacht wird u
 nd alle den gleichen Song hören\, jeder etwas Persönliches damit verbind
 et und seine eigene Welt erschaffen kann. Auf der kleinen Bühne nehme ich
  euch mit auf diese Reise: Mit Akustik- und E-Gitarre spiele ich eigene St
 ücke und Interpretationen\, die Raum zum Zuhören\, Fühlen und Eintauche
 n lassen.\nIch freue mich darauf\, diese Momente und die Musik mit euch zu
  teilen.
DTSTART:20260310T190000
DTEND:20260310T200000
LOCATION:Kulturhaus Alter Schlachthof Soest\, Ulrichertor 4\, 59494 Soest\,
  
END:VEVENT
BEGIN:VTIMEZONE
TZID:Europe/Berlin
BEGIN:STANDARD
DTSTART:20260310T190000
TZNAME:CET
TZOFFSETTO:+0100
TZOFFSETFROM:+0100
END:STANDARD
END:VTIMEZONE
END:VCALENDAR
