BEGIN:VCALENDAR
PRODID:-//eluceo/ical//2.0/EN
VERSION:2.0
CALSCALE:GREGORIAN
BEGIN:VEVENT
UID:568f7f9069e38a6dc88a98d3ee93813f
DTSTAMP:20260425T014801Z
SUMMARY:GESCHICHTENHÜPFER: Pettersson zeltet - Vorlesen für Kinder ab 4 J
 ahre um 10:30 und 11:30 Uhr
DESCRIPTION:Wir setzen die beliebte Vorlesereihe fort!\n\n<p>Mal gibt es Bi
 lderbuchkino\, mal ein Kamishibai-Bildkartentheater\, Geschichten aus dem 
 Erz&auml\;hlkoffer&nbsp\;oder eine interaktive ONILO-Story.<br />\nZu jede
 r&nbsp\;Geschichte erhaltet Ihr einen Aufkleber\, der in ein Geschichten-H
 &uuml\;pfer Sammelheftchen eingeklebt wird. \nWer 6 Aufkleber gesammelt ha
 t\, bekommt ein kleines Buch.<br />\nDas Sammelheft und die Aufkleber vert
 eilen die Vorlesenden.</p>\nBitte keine jüngeren Geschwisterkinder mit in
  den Veranstaltungsraum schicken.\n\nAnmeldung 14 Tage vor der Veranstaltu
 ng in der Stadtbücherei zu den Servicezeiten.
DTSTART:20260418T103000
DTEND:20260418T133000
LOCATION:Stadtbücherei Soest\, Severinstraße 10\, 59494 Soest\, 
END:VEVENT
BEGIN:VTIMEZONE
TZID:Europe/Berlin
BEGIN:DAYLIGHT
DTSTART:20260418T103000
TZNAME:CEST
TZOFFSETTO:+0200
TZOFFSETFROM:+0200
END:DAYLIGHT
END:VTIMEZONE
END:VCALENDAR
