BEGIN:VCALENDAR
PRODID:-//eluceo/ical//2.0/EN
VERSION:2.0
CALSCALE:GREGORIAN
BEGIN:VEVENT
UID:9beea185b005ffb40ab5bc847e27ee8e
DTSTAMP:20260424T160442Z
SUMMARY:MATINÉEKONZERT MIT PROF: GREGOR WEICHERT
DESCRIPTION:Professor Gregor Weichert ist vielen Soestern durch sein Wirken
  als Pianist und ehemaliger Leiter der Musikschule bekannt. Während seine
 r Soester Zeit in den 1970er- und 1980er-Jahren\, bevor er dem Ruf als Pro
 fessor an die Musikhochschule Detmold folgte\, prägte er das Soester Musi
 kleben durch eine sehr rege Konzerttätigkeit und Zusammenarbeit mit heimi
 schen Künstlern wie dem Komponisten Gerd Boder. Außerdem machte er Soest
  in dieser Zeit durch sein herausragendes pädagogisches Wirken zu einem Z
 entrum pianistischer Hochkultur. Schon damals strahlte sein Ruf unter ande
 rem durch Aufnahmen neu entdeckter Werke (’Liszt-Raritäten’) weit üb
 er das Lokale hinaus.\nZu unserer großen Freude dürfen wir ihn nun wiede
 r mit einer Matinée begrüßen.\n\nNeben Werken von Wolfgang Amadeus Moza
 rt und Franz Schubert stehen Kompositionen des selten aufgeführten\, von 
 ihm wiederentdeckten Komponisten\, Ernst Haberbier auf dem Programm.
DTSTART:20260426T110000
DTEND:20260426T140000
LOCATION:Musikschule Soest\, Schültingerstraße 3-5\, 59494 Soest\, 
END:VEVENT
BEGIN:VTIMEZONE
TZID:Europe/Berlin
BEGIN:DAYLIGHT
DTSTART:20260426T110000
TZNAME:CEST
TZOFFSETTO:+0200
TZOFFSETFROM:+0200
END:DAYLIGHT
END:VTIMEZONE
END:VCALENDAR
