BEGIN:VCALENDAR
PRODID:-//eluceo/ical//2.0/EN
VERSION:2.0
CALSCALE:GREGORIAN
BEGIN:VEVENT
UID:bd8ddddf549eafdf0a2299e952b6a297
DTSTAMP:20260425T014222Z
SUMMARY:Wärmepumpe in der Praxis
DESCRIPTION:Wie effizient arbeitet eine Wärmepumpe im Altbau wirklich?\n\n
 Dieser Frage gehen wir in unserer Veranstaltung anhand konkreter Praxisbei
 spiele nach. Verglichen werden die Verbrauchsdaten von drei Wärmepumpen\,
  die in Bestandsgebäuden beziehungsweise Altbauten eingebaut wurden. So e
 rhalten Sie einen realistischen Einblick\, wie Wärmepumpen unter untersch
 iedlichen Bedingungen im Gebäudebestand arbeiten.\n\nDarüber hinaus gibt
  ein Fachreferent praktische und gut umsetzbare Tipps\, wie Sie die Effizi
 enz Ihrer eigenen Wärmepumpe verbessern können. Freuen Sie sich auf wert
 volle Hinweise\, mit denen sich Betrieb und Energieverbrauch gezielt optim
 ieren lassen.\n\nNutzen Sie die Gelegenheit\, Erfahrungen aus der Praxis k
 ennenzulernen und hilfreiche Anregungen für Ihr eigenes Zuhause mitzunehm
 en.\n\nUm Anmeldung unter www.soest-saniert.de wird zur besseren Planung g
 ebeten.
DTSTART:20260422T180000
DTEND:20260422T210000
LOCATION:Blauer Saal\, Domplatz\, 59494 Soest\, 
END:VEVENT
BEGIN:VTIMEZONE
TZID:Europe/Berlin
BEGIN:DAYLIGHT
DTSTART:20260422T180000
TZNAME:CEST
TZOFFSETTO:+0200
TZOFFSETFROM:+0200
END:DAYLIGHT
END:VTIMEZONE
END:VCALENDAR
