BEGIN:VCALENDAR
PRODID:-//eluceo/ical//2.0/EN
VERSION:2.0
CALSCALE:GREGORIAN
BEGIN:VEVENT
UID:6d26b98b4f3f670d1d0c67767c2d49b2
DTSTAMP:20260424T212940Z
SUMMARY:Tango für Anfänger A1 (ohne Vorkenntnisse)
DESCRIPTION:Jörn Kitzhöfer und Anneleja Witthus vom Bohemio e.V. aus Biel
 efeld unterrichten den argentinischen Tango (Weltkulturerbe) auf ihre unna
 chahmlich humorvolle und geduldige Art. Jeder/jede wird hier mitgenommen u
 nd kommt auf seine/ihre Kosten: es handelt sich bei diesem Kurs um einen (
 später fortlaufenden) Kurs à 8 Unterrichtseinheiten. Anschließender Kur
 sbeginn und Termine zum Üben finden Sie auf der Homepage des El Matadero 
 Tangoclubs Soest e.V.: www. tangoinsoest.de. Es wird um vorherige Anmeldun
 g und Zahlung bei sbergmennen@gmail.com gebeten (Tel: 015120703427)
DTSTART:20260412T143000
DTEND:20260412T160000
LOCATION:Schützenhalle EInigkeit\, Danzinger Ring 26\, 59494 Soest\, 
END:VEVENT
BEGIN:VTIMEZONE
TZID:Europe/Berlin
BEGIN:DAYLIGHT
DTSTART:20260412T143000
TZNAME:CEST
TZOFFSETTO:+0200
TZOFFSETFROM:+0200
END:DAYLIGHT
END:VTIMEZONE
END:VCALENDAR
