BEGIN:VCALENDAR
PRODID:-//eluceo/ical//2.0/EN
VERSION:2.0
CALSCALE:GREGORIAN
BEGIN:VEVENT
UID:69398ab14fab0716d8941e7356f71b7f
DTSTAMP:20260425T024948Z
SUMMARY:Mechtild Schulte  COLOUR DYNAMICS
DESCRIPTION:
DTSTART:20260426T150000
DTEND:20260426T170000
LOCATION:Neu St. Thomäkirche\, Klosterstraße 8\, 59494 Soest\, 
END:VEVENT
BEGIN:VTIMEZONE
TZID:Europe/Berlin
BEGIN:DAYLIGHT
DTSTART:20260426T150000
TZNAME:CEST
TZOFFSETTO:+0200
TZOFFSETFROM:+0200
END:DAYLIGHT
END:VTIMEZONE
END:VCALENDAR
