BEGIN:VCALENDAR
PRODID:-//eluceo/ical//2.0/EN
VERSION:2.0
CALSCALE:GREGORIAN
BEGIN:VEVENT
UID:2bc16eaa475f695acf4f9120c3f57650
DTSTAMP:20260424T121329Z
SUMMARY:Mechtild Schulte  COLOUR DYNAMICS
DESCRIPTION:
DTSTART:20260425T150000
DTEND:20260425T170000
LOCATION:Neu St. Thomäkirche\, Klosterstraße 8\, 59494 Soest\, 
END:VEVENT
BEGIN:VTIMEZONE
TZID:Europe/Berlin
BEGIN:DAYLIGHT
DTSTART:20260425T150000
TZNAME:CEST
TZOFFSETTO:+0200
TZOFFSETFROM:+0200
END:DAYLIGHT
END:VTIMEZONE
END:VCALENDAR
