BEGIN:VCALENDAR
PRODID:-//eluceo/ical//2.0/EN
VERSION:2.0
CALSCALE:GREGORIAN
BEGIN:VEVENT
UID:334c4c2e096b10075484e1f58fc7f14d
DTSTAMP:20260425T014952Z
SUMMARY:Mechtild Schulte  COLOUR DYNAMICS
DESCRIPTION:
DTSTART:20260418T150000
DTEND:20260418T170000
LOCATION:Neu St. Thomäkirche\, Klosterstraße 8\, 59494 Soest\, 
END:VEVENT
BEGIN:VTIMEZONE
TZID:Europe/Berlin
BEGIN:DAYLIGHT
DTSTART:20260418T150000
TZNAME:CEST
TZOFFSETTO:+0200
TZOFFSETFROM:+0200
END:DAYLIGHT
END:VTIMEZONE
END:VCALENDAR
