BEGIN:VCALENDAR
PRODID:-//eluceo/ical//2.0/EN
VERSION:2.0
CALSCALE:GREGORIAN
BEGIN:VEVENT
UID:68a9fb7170dc6933e63e9958139cdb25
DTSTAMP:20260425T014804Z
SUMMARY:Mechtild Schulte  COLOUR DYNAMICS
DESCRIPTION:
DTSTART:20260409T150000
DTEND:20260409T170000
LOCATION:Neu St. Thomäkirche\, Klosterstraße 8\, 59494 Soest\, 
END:VEVENT
BEGIN:VTIMEZONE
TZID:Europe/Berlin
BEGIN:DAYLIGHT
DTSTART:20260409T150000
TZNAME:CEST
TZOFFSETTO:+0200
TZOFFSETFROM:+0200
END:DAYLIGHT
END:VTIMEZONE
END:VCALENDAR
