BEGIN:VCALENDAR
PRODID:-//eluceo/ical//2.0/EN
VERSION:2.0
CALSCALE:GREGORIAN
BEGIN:VEVENT
UID:d25c11972f506b9801a059c281066531
DTSTAMP:20260425T014839Z
SUMMARY:Mechtild Schulte  COLOUR DYNAMICS
DESCRIPTION:
DTSTART:20260402T150000
DTEND:20260402T170000
LOCATION:Neu St. Thomäkirche\, Klosterstraße 8\, 59494 Soest\, 
END:VEVENT
BEGIN:VTIMEZONE
TZID:Europe/Berlin
BEGIN:DAYLIGHT
DTSTART:20260402T150000
TZNAME:CEST
TZOFFSETTO:+0200
TZOFFSETFROM:+0200
END:DAYLIGHT
END:VTIMEZONE
END:VCALENDAR
