BEGIN:VCALENDAR
PRODID:-//eluceo/ical//2.0/EN
VERSION:2.0
CALSCALE:GREGORIAN
BEGIN:VEVENT
UID:0bc062a2fbe9bd9c5337b2a5d15bc3c3
DTSTAMP:20260425T014922Z
SUMMARY:Patrice Jacopit  "Symphonie der Träume"
DESCRIPTION:
DTSTART:20260407T140000
DTEND:20260407T180000
LOCATION:Kunstverein Kreis Soest\, Jakobistraße 17\, 59494 Soest\, 
END:VEVENT
BEGIN:VTIMEZONE
TZID:Europe/Berlin
BEGIN:DAYLIGHT
DTSTART:20260407T140000
TZNAME:CEST
TZOFFSETTO:+0200
TZOFFSETFROM:+0200
END:DAYLIGHT
END:VTIMEZONE
END:VCALENDAR
