BEGIN:VCALENDAR
PRODID:-//eluceo/ical//2.0/EN
VERSION:2.0
CALSCALE:GREGORIAN
BEGIN:VEVENT
UID:5323de66486d6a67ce1a7ee15e704504
DTSTAMP:20260425T014920Z
SUMMARY:Patrice Jacopit  "Symphonie der Träume"
DESCRIPTION:
DTSTART:20260401T140000
DTEND:20260401T180000
LOCATION:Kunstverein Kreis Soest\, Jakobistraße 17\, 59494 Soest\, 
END:VEVENT
BEGIN:VTIMEZONE
TZID:Europe/Berlin
BEGIN:DAYLIGHT
DTSTART:20260401T140000
TZNAME:CEST
TZOFFSETTO:+0200
TZOFFSETFROM:+0200
END:DAYLIGHT
END:VTIMEZONE
END:VCALENDAR
