BEGIN:VCALENDAR
PRODID:-//eluceo/ical//2.0/EN
VERSION:2.0
CALSCALE:GREGORIAN
BEGIN:VEVENT
UID:89be9450f8355171dd875027e13beb54
DTSTAMP:20260424T213020Z
SUMMARY:Patrice Jacopit  "Symphonie der Träume"
DESCRIPTION:
DTSTART:20260331T140000
DTEND:20260331T180000
LOCATION:Kunstverein Kreis Soest\, Jakobistraße 17\, 59494 Soest\, 
END:VEVENT
BEGIN:VTIMEZONE
TZID:Europe/Berlin
BEGIN:DAYLIGHT
DTSTART:20260331T140000
TZNAME:CEST
TZOFFSETTO:+0200
TZOFFSETFROM:+0200
END:DAYLIGHT
END:VTIMEZONE
END:VCALENDAR
