BEGIN:VCALENDAR
PRODID:-//eluceo/ical//2.0/EN
VERSION:2.0
CALSCALE:GREGORIAN
BEGIN:VEVENT
UID:788de7e2e5c6537d8465d91930cabc27
DTSTAMP:20260425T014826Z
SUMMARY:DUO FLUTANO - DEBUTKONZERT ANJA LODDENKEMPER
DESCRIPTION:Pure Musizierfreude und spritzige Virtuosität verbinden die Fl
 ötistin Anja Loddenkemper und die Pianistin Julia Labuda. Als Duo präsen
 tieren die beiden Musikerinnen die Vielseitigkeit und Ausdruckskraft von Q
 uerflöte und Klavier und lassen durch die unterschiedliche Tonerzeugung e
 ine facetten- und farbenreiche Klangwelt entstehen.\n\nUnter dem Titel „
 Zwischen Tradition und Moderne“ spannen sie einen musikalischen Bogen vo
 n der klassischen Formsprache bis hin zu rhythmisch geprägten Klangwelten
  des 20. Jahrhunderts. Im ersten Teil erklingen Werke von Johann Nepomuk H
 ummel und Erwin Schulhoff\, die auf ganz unterschiedliche Weise Tradition 
 weiterdenken und neue Ausdrucksformen erschließen. Der zweite Konzertteil
  steht im Zeichen von Tanz\, Rhythmus und Bewegung: Astor Piazzollas Tango
 s verbinden klassische Elemente mit südamerikanischer Leidenschaft\, wäh
 rend Charles-Marie Widors Suite op.34 mit virtuoser Brillanz und klanglich
 er Vielfalt den Abend abrundet.\n\nEin Konzert mit spannenden Einblicken i
 n die Musik zwischen Tradition und Moderne.
DTSTART:20260517T180000
DTEND:20260517T210000
LOCATION:Musikschule Soest\, Schültingerstraße 3-5\, 59494 Soest\, 
END:VEVENT
BEGIN:VTIMEZONE
TZID:Europe/Berlin
BEGIN:DAYLIGHT
DTSTART:20260517T180000
TZNAME:CEST
TZOFFSETTO:+0200
TZOFFSETFROM:+0200
END:DAYLIGHT
END:VTIMEZONE
END:VCALENDAR
