BEGIN:VCALENDAR
PRODID:-//eluceo/ical//2.0/EN
VERSION:2.0
CALSCALE:GREGORIAN
BEGIN:VEVENT
UID:7b082acdc2241ef1fb39394badd42334
DTSTAMP:20260424T122640Z
SUMMARY:Growth and Regeneration. The Tenacity of Nature.
DESCRIPTION:Eine Ausstellung neuer und ausgesuchter Bilder\, die die Freude
  und Neugier an der Natur sichtbar machen. Arbeiten die das schöpferische
  Potential der Natur thematisieren.
DTSTART:20260424T190000
DTEND:20260424T220000
LOCATION:GALERIE AUF ZEIT\, Atelier Richard A. Cox\, Brüderstr 40\, 59494 
 Soest\, 
END:VEVENT
BEGIN:VTIMEZONE
TZID:Europe/Berlin
BEGIN:DAYLIGHT
DTSTART:20260424T190000
TZNAME:CEST
TZOFFSETTO:+0200
TZOFFSETFROM:+0200
END:DAYLIGHT
END:VTIMEZONE
END:VCALENDAR
