BEGIN:VCALENDAR
PRODID:-//eluceo/ical//2.0/EN
VERSION:2.0
CALSCALE:GREGORIAN
BEGIN:VEVENT
UID:1a579a66c54cf7858491ddbfc6016164
DTSTAMP:20260425T014742Z
SUMMARY:»ROOTS & ROUTES«
DESCRIPTION:Nach Präludien von Johann Sebastian Bach widmet sich Hartmut H
 enning Mentz mit seinem Programm nun vor allem der zeitgenössischen Gitar
 renmusik. Komponisten wie Andrew York\, Quique Sinesi\,  Maurizio Colonna 
 und Tommy Emmanuel zeigen die unterschiedlichen Klangsprachen heutiger Git
 arrenmusik —  zwischen nuancierten Klangfarben\, rhythmischer Raffinesse
  und virtuoser Ausdruckskraft.  Die Nikolaikapelle bietet mit ihrer warmen
 \, klaren  Akustik und ihrer intimen Atmosphäre ideale Voraussetzungen f
 ür ein lebendiges Konzerterlebnis.  Hartmut Henning Mentz studierte Gitar
 re an der Hochschule für Musik Detmold und ist seither Dozent für Gitarr
 e an der Musikschule Soest. Darüber hinaus gastiert er regelmäßig in un
 terschiedlichen Konzert- und Veranstaltungsreihen.
DTSTART:20260627T183000
DTEND:20260627T213000
LOCATION:Nikolaikapelle\, Thomästr. 9\, 59494 Soest\, 
END:VEVENT
BEGIN:VTIMEZONE
TZID:Europe/Berlin
BEGIN:DAYLIGHT
DTSTART:20260627T183000
TZNAME:CEST
TZOFFSETTO:+0200
TZOFFSETFROM:+0200
END:DAYLIGHT
END:VTIMEZONE
END:VCALENDAR
