BEGIN:VCALENDAR
PRODID:-//eluceo/ical//2.0/EN
VERSION:2.0
CALSCALE:GREGORIAN
BEGIN:VEVENT
UID:6387e7f09664d78f02d2e4b0776998c9
DTSTAMP:20260425T014821Z
SUMMARY:Fußwallfahrt der Soester Katholiken nach Werl
DESCRIPTION:Die Wallfahrt beginnt um 8:00 Uhr in der Heilig-Kreuz-Kirche. U
 nterwegs sind einige Stationen mit biblischen Texten\, Gebeten und Liedern
  gestaltet. Bei Kaffee und Kuchen und mitgebrachtem Proviant ist eine Mitt
 agspause in Westönnen. Um  15:00 Uhr ist das Pilgeramt in der Werler Wall
 fahrtsbasilika. Für Notfälle unterwegs steht ein Begleitfahrzeug zur Ver
 fügung. Pilger*innen\, die eine Fahrgelegenheit nach Werl und/oder zurüc
 k nach Soest benötigen\, mögen dies bitte bis zum 30. April im Zentralen
  Pfarrbüro unter 02921/61010 oder per Mail unter kontakt@pr-soest.de\, an
 melden.
DTSTART:20260509T080000
DTEND:20260509T160000
LOCATION:Heilig-Kreuz-Kirche\, Paradieser Weg 60\, 59494 Soest\, 
END:VEVENT
BEGIN:VTIMEZONE
TZID:Europe/Berlin
BEGIN:DAYLIGHT
DTSTART:20260509T080000
TZNAME:CEST
TZOFFSETTO:+0200
TZOFFSETFROM:+0200
END:DAYLIGHT
END:VTIMEZONE
END:VCALENDAR
