BEGIN:VCALENDAR
PRODID:-//eluceo/ical//2.0/EN
VERSION:2.0
CALSCALE:GREGORIAN
BEGIN:VEVENT
UID:ada089f0a5427bf9bfbd0c6673bf0df7
DTSTAMP:20260425T014921Z
SUMMARY:Discofox meets Salsa - Tanzworkshops - Halle 4 in Soest
DESCRIPTION:Für den nächsten Tanzworkshopabend haben sich Marie und Fabia
 n eine besondere Kombination ausgedacht:\n\nLos geht’s\,\, wie immer\, m
 it einem Workshop für Anfangende und Auffrischende\, geeignet für Alle\,
  die in das Thema Discofox einsteigen oder wieder einsteigen möchten. Gel
 ernt werden die ersten Grundschritte und erste einfach Figuren.\n\nWeiter 
 geht es mit einem aufbauenden Fortgeschrittenenkurs\, der auch für die Te
 ilnehmende des ersten Kurses geeignet ist.\n\nDer dritte Kurs bietet dann 
 erste Einblicke in die Welt des Salsa. Auch hier wird mit den Grundschritt
 en gestartet. Am Ende werdet ihr in der Lage sein\, den Tanz für die erst
 en sicheren Schritte auf dem Parkett zu tanzen. \n\nAngenommen werden zu a
 llen Kursen Anmeldungen von Paaren und Singles.\n\nUnsere Zeiten:\n17:30- 
 18:30 Uhr- Anfangende und Auffrischende\n18:45- 20:15 Uhr- Discofox Fortge
 schrittene- Thema Damen- und Herrenstyling\n20:30- 22:00 Uhr- Salsa Worksh
 op\n\nUnsere Preise:\n1 Kurs: 15 €\n2 Kurse 25 €\n3 Kurse 35 €\nDie 
 Preise verstehen sich pro Person zzzgl einmaligen 5 € Mindestverzehr.\n\
 nAnmeldungen sind hier möglich:\n01575 5335965 (WhtasApp)\nTicketshalle4@
 web.de (Mail)\nwww.ticketshalle4.de (Anmedeformular)\n\nLet’s Dance
DTSTART:20260425T173000
DTEND:20260425T220000
LOCATION:Halle 4\, Riga Ring 4\, 59494 Soest\, 
END:VEVENT
BEGIN:VTIMEZONE
TZID:Europe/Berlin
BEGIN:DAYLIGHT
DTSTART:20260425T173000
TZNAME:CEST
TZOFFSETTO:+0200
TZOFFSETFROM:+0200
END:DAYLIGHT
END:VTIMEZONE
END:VCALENDAR
