BEGIN:VCALENDAR
PRODID:-//eluceo/ical//2.0/EN
VERSION:2.0
CALSCALE:GREGORIAN
BEGIN:VEVENT
UID:d14c156ffbfc84110409cbf038622ed9
DTSTAMP:20260424T160435Z
SUMMARY:MANDOLINE PUR
DESCRIPTION:Die Mandoline als Soloinstrument blühte erst spät im 20.Jahrh
 undert auf. Daniel Ahlert hat es sich zum Ziel gemacht\, das Repertoire zu
  erweitern und inspiriert Komponisten auf der ganzen Welt für ihn zu schr
 eiben. Die Highlights präsentiert er in diesem Programm.
DTSTART:20260502T170000
DTEND:20260502T200000
LOCATION:Musikschule Soest\, Schültingerstraße 3-5\, 59494 Soest\, 
END:VEVENT
BEGIN:VTIMEZONE
TZID:Europe/Berlin
BEGIN:DAYLIGHT
DTSTART:20260502T170000
TZNAME:CEST
TZOFFSETTO:+0200
TZOFFSETFROM:+0200
END:DAYLIGHT
END:VTIMEZONE
END:VCALENDAR
