BEGIN:VCALENDAR
PRODID:-//eluceo/ical//2.0/EN
VERSION:2.0
CALSCALE:GREGORIAN
BEGIN:VEVENT
UID:1502d9dcc81ce4106b46c136b5412965
DTSTAMP:20260425T014908Z
SUMMARY:Kreativwerkstatt
DESCRIPTION:
DTSTART:20271209T100000
DTEND:20271209T140000
LOCATION:Kulturquartier Gesamt\, Ulrichertor 4\, 59494 Soest\, 
END:VEVENT
BEGIN:VTIMEZONE
TZID:Europe/Berlin
BEGIN:STANDARD
DTSTART:20271209T100000
TZNAME:CET
TZOFFSETTO:+0100
TZOFFSETFROM:+0100
END:STANDARD
END:VTIMEZONE
END:VCALENDAR
