BEGIN:VCALENDAR
PRODID:-//eluceo/ical//2.0/EN
VERSION:2.0
CALSCALE:GREGORIAN
BEGIN:VEVENT
UID:b64704dfff12ea859666553d94ae0c9d
DTSTAMP:20260424T160428Z
SUMMARY:Soester Wochenmarkt
DESCRIPTION:Jeden Dienstag\, Donnerstag und Samstag findet im Schatten des 
 Turms von St. Patrokli und des barocken Rathauses der Soester Wochenmarkt 
 unumstritten vor einer der schönsten Kulissen Nordrhein-Westfalens statt.
  Der Wochenmarkt in Soest steht für Qualität und Frische aus der Region 
 und lädt zum Stöbern und Schlemmen ein. Das Angebot reicht von Fleisch\,
  Obst und Gemüse über Antipasti und Käse sowie frischen Schnittblumen u
 nd Topfpflanzen bis hin zu Schmuck und Textilien.
DTSTART:20260428T070000
DTEND:20260428T130000
LOCATION:Petrikirchhof Nord\, Petrikirchhof\, 59494 Soest\, 
END:VEVENT
BEGIN:VTIMEZONE
TZID:Europe/Berlin
BEGIN:DAYLIGHT
DTSTART:20260428T070000
TZNAME:CEST
TZOFFSETTO:+0200
TZOFFSETFROM:+0200
END:DAYLIGHT
END:VTIMEZONE
END:VCALENDAR
